BEGIN:VCALENDAR
VERSION:2.0
PRODID:-//rssny.org//NONSGML kigkonsult.se iCalcreator 2.30.10//
CALSCALE:GREGORIAN
METHOD:PUBLISH
UID:8c6176a3-f726-434f-971d-f65363d9ff43
X-WR-CALDESC:TO REGISTER: https://rssny.org/trivia.html   Register ONE TIME
  ONLY\n\n\nCome and enjoy trivia and brain games with Maritza.\n\nNOTES:\n
 *  This class is weekly. We will let you know if it is not happening.\n* Y
 ou only need to register ONCE for this class. You will be sent links weekl
 y.\n*  You MUST register for the class. Please do not forward the link.
X-WR-RELCALID:8085c1d1e71931aa2f32445fa3f9586d
X-WR-TIMEZONE:America/New_York
BEGIN:VTIMEZONE
TZID:America/New_York
BEGIN:STANDARD
TZNAME:EST
DTSTART:20241103T020000
TZOFFSETFROM:-0400
TZOFFSETTO:-0500
RDATE:20251102T020000
END:STANDARD
BEGIN:DAYLIGHT
TZNAME:EDT
DTSTART:20240310T020000
TZOFFSETFROM:-0500
TZOFFSETTO:-0400
RDATE:20250309T020000
RDATE:20260308T020000
END:DAYLIGHT
END:VTIMEZONE
BEGIN:VEVENT
UID:c0515216-dc71-49e3-aa2f-ba6230b5c05d
DTSTAMP:20260423T194842Z
DESCRIPTION:TO REGISTER: https://rssny.org/trivia.html   Register ONE TIME 
 ONLY\n\n\nCome and enjoy trivia and brain games with Maritza.\n\nNOTES:\n*
   This class is weekly. We will let you know if it is not happening.\n* Yo
 u only need to register ONCE for this class. You will be sent links weekly
 .\n*  You MUST register for the class. Please do not forward the link.
DTSTART;TZID=America/New_York:20241210T110000
DTEND;TZID=America/New_York:20241210T120000
LOCATION:https://rssny.org/trivia.html
SUMMARY:Brain Boosters with Maritza (HYBRID) CANCELED
END:VEVENT
END:VCALENDAR
