BEGIN:VCALENDAR
VERSION:2.0
PRODID:-//rssny.org//NONSGML kigkonsult.se iCalcreator 2.30.10//
CALSCALE:GREGORIAN
METHOD:PUBLISH
UID:fc15765e-dedb-4830-b36c-d5c80ea81267
X-WR-CALDESC:
X-WR-RELCALID:ea9af326fa1925fdb5ac625785dcf651
X-WR-TIMEZONE:America/New_York
BEGIN:VTIMEZONE
TZID:America/New_York
BEGIN:STANDARD
TZNAME:EST
DTSTART:20251102T020000
TZOFFSETFROM:-0400
TZOFFSETTO:-0500
RDATE:20261101T020000
END:STANDARD
BEGIN:DAYLIGHT
TZNAME:EDT
DTSTART:20250309T020000
TZOFFSETFROM:-0500
TZOFFSETTO:-0400
RDATE:20260308T020000
RDATE:20270314T020000
END:DAYLIGHT
END:VTIMEZONE
BEGIN:VEVENT
UID:a10e546f-6558-417c-9cfa-700b6aa9fe82
DTSTAMP:20260422T074254Z
DESCRIPTION:
DTSTART;TZID=America/New_York:20260225T103000
DTEND;TZID=America/New_York:20260225T113000
LOCATION:2995 Independence Avenue\, Bronx\, NY 10463 US
SUMMARY:Chair Yoga with Kathy
END:VEVENT
END:VCALENDAR
