BEGIN:VCALENDAR
VERSION:2.0
PRODID:-//rssny.org//NONSGML kigkonsult.se iCalcreator 2.30.10//
CALSCALE:GREGORIAN
METHOD:PUBLISH
UID:50af25a0-0d2a-4a41-b3a3-32dd31e616e2
X-WR-CALDESC:
X-WR-RELCALID:84f60cd42c825a1029025584d7a632a9
X-WR-TIMEZONE:America/New_York
BEGIN:VTIMEZONE
TZID:America/New_York
BEGIN:STANDARD
TZNAME:EST
DTSTART:20251102T020000
TZOFFSETFROM:-0400
TZOFFSETTO:-0500
RDATE:20261101T020000
END:STANDARD
BEGIN:DAYLIGHT
TZNAME:EDT
DTSTART:20250309T020000
TZOFFSETFROM:-0500
TZOFFSETTO:-0400
RDATE:20260308T020000
RDATE:20270314T020000
END:DAYLIGHT
END:VTIMEZONE
BEGIN:VEVENT
UID:e540c2a0-89b9-44e5-9ba6-16a868d9a7a7
DTSTAMP:20260422T073347Z
DESCRIPTION:
DTSTART;TZID=America/New_York:20260219T110000
DTEND;TZID=America/New_York:20260219T120000
LOCATION:2995 Independence Avenue\, Bronx\, NY 10463 US
SUMMARY:Presentation (TBD) by Meredith Almonte Pena
END:VEVENT
END:VCALENDAR
