BEGIN:VCALENDAR
VERSION:2.0
PRODID:-//rssny.org//NONSGML kigkonsult.se iCalcreator 2.30.10//
CALSCALE:GREGORIAN
METHOD:PUBLISH
UID:c4aea553-6b56-493f-9fb5-37aad9a15c04
X-WR-CALDESC:
X-WR-RELCALID:03a99a5f8d86d86c34d7b5b1439b3b85
X-WR-TIMEZONE:America/New_York
BEGIN:VTIMEZONE
TZID:America/New_York
BEGIN:STANDARD
TZNAME:EST
DTSTART:20251102T020000
TZOFFSETFROM:-0400
TZOFFSETTO:-0500
RDATE:20261101T020000
END:STANDARD
BEGIN:DAYLIGHT
TZNAME:EDT
DTSTART:20250309T020000
TZOFFSETFROM:-0500
TZOFFSETTO:-0400
RDATE:20260308T020000
RDATE:20270314T020000
END:DAYLIGHT
END:VTIMEZONE
BEGIN:VEVENT
UID:62ab273e-4578-4201-9a4a-ba8217d1ebff
DTSTAMP:20260422T073542Z
DESCRIPTION:
DTSTART;TZID=America/New_York:20260212T110000
DTEND;TZID=America/New_York:20260212T120000
LOCATION:2995 Independence Avenue\, Bronx\, NY 10463 US
SUMMARY:Advocacy and Empowerment for Seniors with Alva Rodriguez
END:VEVENT
END:VCALENDAR
