BEGIN:VCALENDAR
VERSION:2.0
PRODID:-//rssny.org//NONSGML kigkonsult.se iCalcreator 2.30.10//
CALSCALE:GREGORIAN
METHOD:PUBLISH
UID:2d4737a3-835c-4e88-8a48-23fb39cbaa3a
X-WR-CALDESC:
X-WR-RELCALID:5a160dcb650b522f2ed5278ec7eea8bc
X-WR-TIMEZONE:America/New_York
BEGIN:VTIMEZONE
TZID:America/New_York
BEGIN:STANDARD
TZNAME:EST
DTSTART:20251102T020000
TZOFFSETFROM:-0400
TZOFFSETTO:-0500
RDATE:20261101T020000
END:STANDARD
BEGIN:DAYLIGHT
TZNAME:EDT
DTSTART:20250309T020000
TZOFFSETFROM:-0500
TZOFFSETTO:-0400
RDATE:20260308T020000
RDATE:20270314T020000
END:DAYLIGHT
END:VTIMEZONE
BEGIN:VEVENT
UID:416b512d-8130-42d6-8d6d-0b75377d55a7
DTSTAMP:20260422T073542Z
DESCRIPTION:
DTSTART;TZID=America/New_York:20260211T100000
DTEND;TZID=America/New_York:20260211T110000
LOCATION:2995 Independence Avenue\, Bronx\, NY 10463 US
SUMMARY:Social Isolation and Mental Being with Alva
END:VEVENT
END:VCALENDAR
