BEGIN:VCALENDAR
VERSION:2.0
PRODID:-//rssny.org//NONSGML kigkonsult.se iCalcreator 2.30.10//
CALSCALE:GREGORIAN
METHOD:PUBLISH
UID:8e2c2b13-9a4b-4bdd-ac0f-bbc1bd349ae2
X-WR-CALDESC:
X-WR-RELCALID:4b8cffbf69da11eb8ae27961a8777805
X-WR-TIMEZONE:America/New_York
BEGIN:VTIMEZONE
TZID:America/New_York
BEGIN:STANDARD
TZNAME:EST
DTSTART:20251102T020000
TZOFFSETFROM:-0400
TZOFFSETTO:-0500
RDATE:20261101T020000
END:STANDARD
BEGIN:DAYLIGHT
TZNAME:EDT
DTSTART:20250309T020000
TZOFFSETFROM:-0500
TZOFFSETTO:-0400
RDATE:20260308T020000
RDATE:20270314T020000
END:DAYLIGHT
END:VTIMEZONE
BEGIN:VEVENT
UID:ff62def5-beeb-4386-b26b-57f3acb47ef7
DTSTAMP:20260422T073226Z
DESCRIPTION:
DTSTART;TZID=America/New_York:20260205T110000
DTEND;TZID=America/New_York:20260205T120000
LOCATION:2995 Independence Avenue\, Bronx\, NY 10463 US
SUMMARY:(Schervier Apartments) Chair Yoga with Kim of BlissFit
END:VEVENT
END:VCALENDAR
