BEGIN:VCALENDAR
VERSION:2.0
PRODID:-//rssny.org//NONSGML kigkonsult.se iCalcreator 2.30.10//
CALSCALE:GREGORIAN
METHOD:PUBLISH
UID:383a4b9e-9490-4e3e-96ce-5191c4dc16fb
X-WR-CALDESC:Chair exercises for better mobility are designed to help older
  or senior adults maintain or improve their ability to perform daily activ
 ities safely and independently.
X-WR-RELCALID:f14ddb1fd459118433902c65c7272560
X-WR-TIMEZONE:America/New_York
BEGIN:VTIMEZONE
TZID:America/New_York
BEGIN:STANDARD
TZNAME:EST
DTSTART:20251102T020000
TZOFFSETFROM:-0400
TZOFFSETTO:-0500
RDATE:20261101T020000
END:STANDARD
BEGIN:DAYLIGHT
TZNAME:EDT
DTSTART:20250309T020000
TZOFFSETFROM:-0500
TZOFFSETTO:-0400
RDATE:20260308T020000
RDATE:20270314T020000
END:DAYLIGHT
END:VTIMEZONE
BEGIN:VEVENT
UID:2a9d1a74-848a-4ca0-bde2-ecabfb6bc786
DTSTAMP:20260422T074026Z
DESCRIPTION:Chair exercises for better mobility are designed to help older 
 or senior adults maintain or improve their ability to perform daily activi
 ties safely and independently.
DTSTART;TZID=America/New_York:20260204T100000
DTEND;TZID=America/New_York:20260204T110000
LOCATION:2995 Independence Avenue\, Bronx\, NY 10463 US
SUMMARY:(Schervier Apartments) Chair Yoga with Maria D'amelio
END:VEVENT
END:VCALENDAR
