BEGIN:VCALENDAR
VERSION:2.0
PRODID:-//rssny.org//NONSGML kigkonsult.se iCalcreator 2.30.10//
CALSCALE:GREGORIAN
METHOD:PUBLISH
UID:4594f74e-24f6-45f0-9303-d9afb0606b32
X-WR-CALDESC:
X-WR-RELCALID:cdaa2aa4a1cc6f222020d15192ffd343
X-WR-TIMEZONE:America/New_York
BEGIN:VTIMEZONE
TZID:America/New_York
BEGIN:STANDARD
TZNAME:EST
DTSTART:20241103T020000
TZOFFSETFROM:-0400
TZOFFSETTO:-0500
RDATE:20251102T020000
RDATE:20261101T020000
END:STANDARD
BEGIN:DAYLIGHT
TZNAME:EDT
DTSTART:20250309T020000
TZOFFSETFROM:-0500
TZOFFSETTO:-0400
RDATE:20260308T020000
END:DAYLIGHT
END:VTIMEZONE
BEGIN:VEVENT
UID:64f194ad-d6dd-4908-a569-7d77ca600bbb
DTSTAMP:20260422T193221Z
DESCRIPTION:
DTSTART;TZID=America/New_York:20250701T133000
DTEND;TZID=America/New_York:20250701T153000
LOCATION:Friendly Fridge\, ground floor\, Bronx\, NY 10463 US
SUMMARY:Friendly Fridge-Stay on Top of Your Health: Free Blood Pressure Che
 ck/ Cuida Tu Salud: Chequeo de Presión Arterial Gratis
END:VEVENT
END:VCALENDAR
