BEGIN:VCALENDAR
VERSION:2.0
PRODID:-//rssny.org//NONSGML kigkonsult.se iCalcreator 2.30.10//
CALSCALE:GREGORIAN
METHOD:PUBLISH
UID:87135d20-396d-4c35-a9fa-809abf66122e
X-WR-CALDESC:
X-WR-RELCALID:09163febcb480e03c2260ecd56dd37f1
X-WR-TIMEZONE:America/New_York
BEGIN:VTIMEZONE
TZID:America/New_York
BEGIN:STANDARD
TZNAME:EST
DTSTART:20241103T020000
TZOFFSETFROM:-0400
TZOFFSETTO:-0500
RDATE:20251102T020000
RDATE:20261101T020000
END:STANDARD
BEGIN:DAYLIGHT
TZNAME:EDT
DTSTART:20250309T020000
TZOFFSETFROM:-0500
TZOFFSETTO:-0400
RDATE:20260308T020000
END:DAYLIGHT
END:VTIMEZONE
BEGIN:VEVENT
UID:796687ee-6122-444e-b726-23e1b633e80c
DTSTAMP:20260424T083906Z
DESCRIPTION:
DTSTART;TZID=America/New_York:20250627T110000
DTEND;TZID=America/New_York:20250627T120000
LOCATION:Marble Hill Older Adult Center\, Bronx\, NY 10463 US
SUMMARY:Marble Hill OAC- Happy Feet dance club
END:VEVENT
END:VCALENDAR
