BEGIN:VCALENDAR
VERSION:2.0
PRODID:-//rssny.org//NONSGML kigkonsult.se iCalcreator 2.30.10//
CALSCALE:GREGORIAN
METHOD:PUBLISH
UID:18ba1e2c-f4f4-418d-a145-b131c5408e98
X-WR-CALDESC:
X-WR-RELCALID:cb1a8d3a30aa54df8b04ad81631582df
X-WR-TIMEZONE:America/New_York
BEGIN:VTIMEZONE
TZID:America/New_York
BEGIN:STANDARD
TZNAME:EST
DTSTART:20241103T020000
TZOFFSETFROM:-0400
TZOFFSETTO:-0500
RDATE:20251102T020000
RDATE:20261101T020000
END:STANDARD
BEGIN:DAYLIGHT
TZNAME:EDT
DTSTART:20250309T020000
TZOFFSETFROM:-0500
TZOFFSETTO:-0400
RDATE:20260308T020000
END:DAYLIGHT
END:VTIMEZONE
BEGIN:VEVENT
UID:d74f88e9-6eb4-4291-b24b-07a9c68bfd7d
DTSTAMP:20260424T125009Z
DESCRIPTION:
DTSTART;TZID=America/New_York:20250620T110000
DTEND;TZID=America/New_York:20250620T120000
LOCATION:Marble Hill Older Adult Center\, Bronx\, NY 10463 US
SUMMARY:Marble Hill OAC- Happy Feet dance club
END:VEVENT
END:VCALENDAR
