BEGIN:VCALENDAR
VERSION:2.0
PRODID:-//rssny.org//NONSGML kigkonsult.se iCalcreator 2.30.10//
CALSCALE:GREGORIAN
METHOD:PUBLISH
UID:d65e0951-e03b-4ef5-aa83-d68eb4d4ac72
X-WR-CALDESC:
X-WR-RELCALID:fb47018af462078a660e935666fb2c39
X-WR-TIMEZONE:America/New_York
BEGIN:VTIMEZONE
TZID:America/New_York
BEGIN:STANDARD
TZNAME:EST
DTSTART:20241103T020000
TZOFFSETFROM:-0400
TZOFFSETTO:-0500
RDATE:20251102T020000
RDATE:20261101T020000
END:STANDARD
BEGIN:DAYLIGHT
TZNAME:EDT
DTSTART:20250309T020000
TZOFFSETFROM:-0500
TZOFFSETTO:-0400
RDATE:20260308T020000
END:DAYLIGHT
END:VTIMEZONE
BEGIN:VEVENT
UID:36d59ede-e995-4c23-af29-0ba567f34d5f
DTSTAMP:20260424T083713Z
DESCRIPTION:
DTSTART;TZID=America/New_York:20250619T110000
DTEND;TZID=America/New_York:20250619T120000
LOCATION:marble Hill Older Adult Center\, Bronx\, NY 10463 US
SUMMARY:Schervier- Montifiore Workshop(Anxiety and aging)
END:VEVENT
END:VCALENDAR
