BEGIN:VCALENDAR
VERSION:2.0
PRODID:-//rssny.org//NONSGML kigkonsult.se iCalcreator 2.30.10//
CALSCALE:GREGORIAN
METHOD:PUBLISH
UID:60716700-a6e1-434b-9c9b-52ce12622b08
X-WR-CALDESC:
X-WR-RELCALID:3c4ca07fc55dae68a994fe6b343e206a
X-WR-TIMEZONE:America/New_York
BEGIN:VTIMEZONE
TZID:America/New_York
BEGIN:STANDARD
TZNAME:EST
DTSTART:20241103T020000
TZOFFSETFROM:-0400
TZOFFSETTO:-0500
RDATE:20251102T020000
RDATE:20261101T020000
END:STANDARD
BEGIN:DAYLIGHT
TZNAME:EDT
DTSTART:20250309T020000
TZOFFSETFROM:-0500
TZOFFSETTO:-0400
RDATE:20260308T020000
END:DAYLIGHT
END:VTIMEZONE
BEGIN:VEVENT
UID:c1922972-648d-4607-bd06-bd7698133723
DTSTAMP:20260424T084220Z
DESCRIPTION:
DTSTART;TZID=America/New_York:20250617T133000
DTEND;TZID=America/New_York:20250617T153000
LOCATION:Friendly Fridge\, ground floor\, Bronx\, NY 10463 US
SUMMARY:Friendly Fridge-Stay on Top of Your Health: Free Blood Pressure Che
 ck/ Cuida Tu Salud: Chequeo de Presión Arterial Gratis
END:VEVENT
END:VCALENDAR
