BEGIN:VCALENDAR
VERSION:2.0
PRODID:-//rssny.org//NONSGML kigkonsult.se iCalcreator 2.30.10//
CALSCALE:GREGORIAN
METHOD:PUBLISH
UID:6615c070-68f3-43c5-a3b8-7d7fde2fffbf
X-WR-CALDESC:
X-WR-RELCALID:0515fe32badd6463e8e05cafff3609ec
X-WR-TIMEZONE:America/New_York
BEGIN:VTIMEZONE
TZID:America/New_York
BEGIN:STANDARD
TZNAME:EST
DTSTART:20241103T020000
TZOFFSETFROM:-0400
TZOFFSETTO:-0500
RDATE:20251102T020000
RDATE:20261101T020000
END:STANDARD
BEGIN:DAYLIGHT
TZNAME:EDT
DTSTART:20250309T020000
TZOFFSETFROM:-0500
TZOFFSETTO:-0400
RDATE:20260308T020000
END:DAYLIGHT
END:VTIMEZONE
BEGIN:VEVENT
UID:ee7744c8-b1ae-43df-bf79-c918ef52ca04
DTSTAMP:20260424T083906Z
DESCRIPTION:
DTSTART;TZID=America/New_York:20250613T110000
DTEND;TZID=America/New_York:20250613T120000
LOCATION:Marble Hill Older Adult Center\, Bronx\, NY 10463 US
SUMMARY:Marble Hill OAC- Happy Feet dance club
END:VEVENT
END:VCALENDAR
