BEGIN:VCALENDAR
VERSION:2.0
PRODID:-//rssny.org//NONSGML kigkonsult.se iCalcreator 2.30.10//
CALSCALE:GREGORIAN
METHOD:PUBLISH
UID:1072d6cf-44b4-49b5-a022-ccfc09e041d7
X-WR-CALDESC:
X-WR-RELCALID:fd26857eea4c8260e3b5e0c805dc4c9c
X-WR-TIMEZONE:America/New_York
BEGIN:VTIMEZONE
TZID:America/New_York
BEGIN:STANDARD
TZNAME:EST
DTSTART:20241103T020000
TZOFFSETFROM:-0400
TZOFFSETTO:-0500
RDATE:20251102T020000
RDATE:20261101T020000
END:STANDARD
BEGIN:DAYLIGHT
TZNAME:EDT
DTSTART:20250309T020000
TZOFFSETFROM:-0500
TZOFFSETTO:-0400
RDATE:20260308T020000
END:DAYLIGHT
END:VTIMEZONE
BEGIN:VEVENT
UID:58c476f5-3960-4122-a052-724084a7d89f
DTSTAMP:20260424T083614Z
DESCRIPTION:
DTSTART;TZID=America/New_York:20250612T130000
DTEND;TZID=America/New_York:20250612T140000
LOCATION:marble Hill Older Adult Center\, 3101 Kingsbridge Terrance\, Bronx
 \, NY 10463 US
SUMMARY:MHOAC- Nutrition Education
END:VEVENT
END:VCALENDAR
