BEGIN:VCALENDAR
VERSION:2.0
PRODID:-//rssny.org//NONSGML kigkonsult.se iCalcreator 2.30.10//
CALSCALE:GREGORIAN
METHOD:PUBLISH
UID:d52ffd27-b8fc-42da-a389-a7fdcb707672
X-WR-CALDESC:
X-WR-RELCALID:dea230ebd9cebde1a82212967c61755b
X-WR-TIMEZONE:America/New_York
BEGIN:VTIMEZONE
TZID:America/New_York
BEGIN:STANDARD
TZNAME:EST
DTSTART:20241103T020000
TZOFFSETFROM:-0400
TZOFFSETTO:-0500
RDATE:20251102T020000
RDATE:20261101T020000
END:STANDARD
BEGIN:DAYLIGHT
TZNAME:EDT
DTSTART:20250309T020000
TZOFFSETFROM:-0500
TZOFFSETTO:-0400
RDATE:20260308T020000
END:DAYLIGHT
END:VTIMEZONE
BEGIN:VEVENT
UID:bd4b1e02-6db8-446a-b1f3-908337bd690e
DTSTAMP:20260424T085237Z
DESCRIPTION:
DTSTART;TZID=America/New_York:20250612T100000
DTEND;TZID=America/New_York:20250612T110000
LOCATION:KHCC\, 3101 Kingsbridge Terrance\, Bronx\, AL 10463 US
SUMMARY:KHCC- Nutrition Education
END:VEVENT
END:VCALENDAR
