BEGIN:VCALENDAR
VERSION:2.0
PRODID:-//rssny.org//NONSGML kigkonsult.se iCalcreator 2.30.10//
CALSCALE:GREGORIAN
METHOD:PUBLISH
UID:6a42944f-94f0-4298-9623-717781ce2078
X-WR-CALDESC:Join us for a special series with 8 fun and simple lessons tha
 t will help you learn how to manage and prevent high blood pressure (also 
 called hypertension). We’ll talk about healthy eating\, staying active\, m
 anaging stress\, and more! These lessons are made for everyone—no medical 
 experience needed. Come learn with friends\, ask questions\, and take-home
  helpful tips to stay healthy and strong.\nAcompáñanos en una serie especi
 al con 8 lecciones divertidas y fáciles que te ayudarán a aprender cómo ma
 nejar y prevenir la presión alta (también llamada hipertensión). Hablaremo
 s sobre cómo comer bien\, moverse más\, controlar el estrés ¡y mucho más! 
 Estas lecciones son para todos—no necesitas experiencia médica. Ven a apre
 nder con amigos\, hacer preguntas y llevarte consejos útiles para mantener
 te sano y fuerte.
X-WR-RELCALID:312a6a60fbd39a66d496fee2dda06f34
X-WR-TIMEZONE:America/New_York
BEGIN:VTIMEZONE
TZID:America/New_York
BEGIN:STANDARD
TZNAME:EST
DTSTART:20241103T020000
TZOFFSETFROM:-0400
TZOFFSETTO:-0500
RDATE:20251102T020000
RDATE:20261101T020000
END:STANDARD
BEGIN:DAYLIGHT
TZNAME:EDT
DTSTART:20250309T020000
TZOFFSETFROM:-0500
TZOFFSETTO:-0400
RDATE:20260308T020000
END:DAYLIGHT
END:VTIMEZONE
BEGIN:VEVENT
UID:47e568ad-3744-4574-857d-56489eaad7f2
DTSTAMP:20260424T095737Z
DESCRIPTION:Join us for a special series with 8 fun and simple lessons that
  will help you learn how to manage and prevent high blood pressure (also c
 alled hypertension). We’ll talk about healthy eating\, staying active\, ma
 naging stress\, and more! These lessons are made for everyone—no medical e
 xperience needed. Come learn with friends\, ask questions\, and take-home 
 helpful tips to stay healthy and strong.\nAcompáñanos en una serie especia
 l con 8 lecciones divertidas y fáciles que te ayudarán a aprender cómo man
 ejar y prevenir la presión alta (también llamada hipertensión). Hablaremos
  sobre cómo comer bien\, moverse más\, controlar el estrés ¡y mucho más! E
 stas lecciones son para todos—no necesitas experiencia médica. Ven a apren
 der con amigos\, hacer preguntas y llevarte consejos útiles para mantenert
 e sano y fuerte.
DTSTART;TZID=America/New_York:20250611T100000
DTEND;TZID=America/New_York:20250611T133000
LOCATION:Schervier Older Adult Apartments\, ground floor\, Bronx\, AL 10463
  US
SUMMARY:Schervier: Hypertension Bootcamp 8 week workshop series/ Campamento
  Intensivo de Hipertensión: Serie de Talleres de
END:VEVENT
END:VCALENDAR
