BEGIN:VCALENDAR
VERSION:2.0
PRODID:-//rssny.org//NONSGML kigkonsult.se iCalcreator 2.30.10//
CALSCALE:GREGORIAN
METHOD:PUBLISH
UID:f85154d8-7017-4e6c-ae3a-394248de3a13
X-WR-CALDESC:
X-WR-RELCALID:976ee97e42f6dc049f2704208eefd7ea
X-WR-TIMEZONE:America/New_York
BEGIN:VTIMEZONE
TZID:America/New_York
BEGIN:STANDARD
TZNAME:EST
DTSTART:20241103T020000
TZOFFSETFROM:-0400
TZOFFSETTO:-0500
RDATE:20251102T020000
RDATE:20261101T020000
END:STANDARD
BEGIN:DAYLIGHT
TZNAME:EDT
DTSTART:20250309T020000
TZOFFSETFROM:-0500
TZOFFSETTO:-0400
RDATE:20260308T020000
END:DAYLIGHT
END:VTIMEZONE
BEGIN:VEVENT
UID:8c1ba79c-0ede-49c8-b05c-bb2ee061b46c
DTSTAMP:20260424T100620Z
DESCRIPTION:
DTSTART;TZID=America/New_York:20250610T133000
DTEND;TZID=America/New_York:20250610T153000
LOCATION:Friendly Fridge\, ground floor\, Bronx\, NY 10463 US
SUMMARY:Friendly Fridge-Stay on Top of Your Health: Free Blood Pressure Che
 ck/ Cuida Tu Salud: Chequeo de Presión Arterial Gratis
END:VEVENT
END:VCALENDAR
