BEGIN:VCALENDAR
VERSION:2.0
PRODID:-//rssny.org//NONSGML kigkonsult.se iCalcreator 2.30.10//
CALSCALE:GREGORIAN
METHOD:PUBLISH
UID:e5a419ab-a0d1-4275-913c-d8af65e1562a
X-WR-CALDESC:Join us for a free blood pressure screening and one-on-one con
 sultation with a nurse. Learn what your numbers mean and get helpful tips 
 for managing your health.\nAcompáñanos para un chequeo gratuito de presión
  arterial y una consulta individual con una enfermera. Aprende qué signifi
 can tus números y recibe consejos útiles para cuidar tu salud.
X-WR-RELCALID:66b45c79d29361272e94cf98517015e9
X-WR-TIMEZONE:America/New_York
BEGIN:VTIMEZONE
TZID:America/New_York
BEGIN:STANDARD
TZNAME:EST
DTSTART:20241103T020000
TZOFFSETFROM:-0400
TZOFFSETTO:-0500
RDATE:20251102T020000
RDATE:20261101T020000
END:STANDARD
BEGIN:DAYLIGHT
TZNAME:EDT
DTSTART:20250309T020000
TZOFFSETFROM:-0500
TZOFFSETTO:-0400
RDATE:20260308T020000
END:DAYLIGHT
END:VTIMEZONE
BEGIN:VEVENT
UID:a6bd1e4c-daf1-4f58-a454-baa1e433987d
DTSTAMP:20260424T084403Z
DESCRIPTION:Join us for a free blood pressure screening and one-on-one cons
 ultation with a nurse. Learn what your numbers mean and get helpful tips f
 or managing your health.\nAcompáñanos para un chequeo gratuito de presión 
 arterial y una consulta individual con una enfermera. Aprende qué signific
 an tus números y recibe consejos útiles para cuidar tu salud.
DTSTART;TZID=America/New_York:20250610T100000
DTEND;TZID=America/New_York:20250610T133000
LOCATION:KHCC\, ground floor\, Bronx\, NY 10463 US
SUMMARY:KHCC-Stay on Top of Your Health: Free Blood Pressure Check/ Cuida T
 u Salud: Chequeo de Presión Arterial Gratis
END:VEVENT
END:VCALENDAR
