BEGIN:VCALENDAR
VERSION:2.0
PRODID:-//rssny.org//NONSGML kigkonsult.se iCalcreator 2.30.10//
CALSCALE:GREGORIAN
METHOD:PUBLISH
UID:707bdad8-cc0e-45d8-b4a3-9e6c7bb2c943
X-WR-CALDESC:
X-WR-RELCALID:b8a38ffbfd49c7f2946e0d4193c71700
X-WR-TIMEZONE:America/New_York
BEGIN:VTIMEZONE
TZID:America/New_York
BEGIN:STANDARD
TZNAME:EST
DTSTART:20241103T020000
TZOFFSETFROM:-0400
TZOFFSETTO:-0500
RDATE:20251102T020000
RDATE:20261101T020000
END:STANDARD
BEGIN:DAYLIGHT
TZNAME:EDT
DTSTART:20250309T020000
TZOFFSETFROM:-0500
TZOFFSETTO:-0400
RDATE:20260308T020000
END:DAYLIGHT
END:VTIMEZONE
BEGIN:VEVENT
UID:8c8143ae-4924-4a5d-8df3-2b05d9083cfd
DTSTAMP:20260424T095437Z
DESCRIPTION:
DTSTART;TZID=America/New_York:20250529T123000
DTEND;TZID=America/New_York:20250529T133000
LOCATION:KHCC\, Bronx\, NY 10463 US
SUMMARY:Self-Massage at Schervier
END:VEVENT
END:VCALENDAR
