BEGIN:VCALENDAR
VERSION:2.0
PRODID:-//rssny.org//NONSGML kigkonsult.se iCalcreator 2.30.10//
CALSCALE:GREGORIAN
METHOD:PUBLISH
UID:13e9e30a-c768-4c14-9239-f2557b687514
X-WR-CALDESC:
X-WR-RELCALID:7915d0cae6359886fa952192da0635f7
X-WR-TIMEZONE:America/New_York
BEGIN:VTIMEZONE
TZID:America/New_York
BEGIN:STANDARD
TZNAME:EST
DTSTART:20241103T020000
TZOFFSETFROM:-0400
TZOFFSETTO:-0500
RDATE:20251102T020000
RDATE:20261101T020000
END:STANDARD
BEGIN:DAYLIGHT
TZNAME:EDT
DTSTART:20250309T020000
TZOFFSETFROM:-0500
TZOFFSETTO:-0400
RDATE:20260308T020000
END:DAYLIGHT
END:VTIMEZONE
BEGIN:VEVENT
UID:c2347d09-9719-485a-a89a-2057a7103b2d
DTSTAMP:20260424T101156Z
DESCRIPTION:
DTSTART;TZID=America/New_York:20250529T100000
DTEND;TZID=America/New_York:20250529T110000
LOCATION:KHCC\, Bronx\, NY 10463 US
SUMMARY:Self Massage at KHCC
END:VEVENT
END:VCALENDAR
