BEGIN:VCALENDAR
VERSION:2.0
PRODID:-//rssny.org//NONSGML kigkonsult.se iCalcreator 2.30.10//
CALSCALE:GREGORIAN
METHOD:PUBLISH
UID:09511936-a6d2-4a7f-8ff5-71513405b53e
X-WR-CALDESC:
X-WR-RELCALID:693b15af58b8c7a02ba7c554c21f2573
X-WR-TIMEZONE:America/New_York
BEGIN:VTIMEZONE
TZID:America/New_York
BEGIN:STANDARD
TZNAME:EST
DTSTART:20241103T020000
TZOFFSETFROM:-0400
TZOFFSETTO:-0500
RDATE:20251102T020000
RDATE:20261101T020000
END:STANDARD
BEGIN:DAYLIGHT
TZNAME:EDT
DTSTART:20250309T020000
TZOFFSETFROM:-0500
TZOFFSETTO:-0400
RDATE:20260308T020000
END:DAYLIGHT
END:VTIMEZONE
BEGIN:VEVENT
UID:0c854046-aacc-4177-a1e7-adb038ab2cfb
DTSTAMP:20260424T095457Z
DESCRIPTION:
DTSTART;TZID=America/New_York:20250515T100000
DTEND;TZID=America/New_York:20250515T110000
LOCATION:KHCC\, Bronx\, NY 10463 US
SUMMARY:Nutrition Education: Finding Sneaky Salt at KHCC
END:VEVENT
END:VCALENDAR
