BEGIN:VCALENDAR
VERSION:2.0
PRODID:-//rssny.org//NONSGML kigkonsult.se iCalcreator 2.30.10//
CALSCALE:GREGORIAN
METHOD:PUBLISH
UID:c4794ffa-aa25-40a8-89a1-e0d2eca286db
X-WR-CALDESC:Join us for an important and supportive session led by Montefi
 ore experts. Learn how to take care of your mental health\, recognize sign
 s of stress\, and find tools to stay emotionally well.\n\nAcompáñanos en u
 na sesión informativa y de apoyo dirigida por expertos de Montefiore. Apre
 nde cómo cuidar tu salud mental\, reconocer señales de estrés y encontrar 
 herramientas para tu bienestar emocional.
X-WR-RELCALID:0583846de5fa873f91ea0adf1a288968
X-WR-TIMEZONE:America/New_York
BEGIN:VTIMEZONE
TZID:America/New_York
BEGIN:STANDARD
TZNAME:EST
DTSTART:20241103T020000
TZOFFSETFROM:-0400
TZOFFSETTO:-0500
RDATE:20251102T020000
RDATE:20261101T020000
END:STANDARD
BEGIN:DAYLIGHT
TZNAME:EDT
DTSTART:20250309T020000
TZOFFSETFROM:-0500
TZOFFSETTO:-0400
RDATE:20260308T020000
END:DAYLIGHT
END:VTIMEZONE
BEGIN:VEVENT
UID:b7d9782f-92bc-4294-af39-f5bbd5351c4b
DTSTAMP:20260424T100124Z
DESCRIPTION:Join us for an important and supportive session led by Montefio
 re experts. Learn how to take care of your mental health\, recognize signs
  of stress\, and find tools to stay emotionally well.\n\nAcompáñanos en un
 a sesión informativa y de apoyo dirigida por expertos de Montefiore. Apren
 de cómo cuidar tu salud mental\, reconocer señales de estrés y encontrar h
 erramientas para tu bienestar emocional.
DTSTART;TZID=America/New_York:20250508T120000
DTEND;TZID=America/New_York:20250508T130000
LOCATION:KHCC\, Bronx\, AL 10463 US
SUMMARY:Mental Health awareness presentation by Montifiore/Presentación sob
 re la Salud Mental por Montefiore
END:VEVENT
END:VCALENDAR
