BEGIN:VCALENDAR
VERSION:2.0
PRODID:-//rssny.org//NONSGML kigkonsult.se iCalcreator 2.30.10//
CALSCALE:GREGORIAN
METHOD:PUBLISH
UID:153a0053-0897-484e-9a9e-bf2f0c4df4a4
X-WR-CALDESC:Boost your mental well-being with personalized support and exp
 ert guidance to help you navigate life's challenges. Take control of your 
 emotional health today and start your journey to a balanced\, healthier mi
 nd.
X-WR-RELCALID:9bf9ed6b17cb73ccf40b13096e83ebbc
X-WR-TIMEZONE:America/New_York
BEGIN:VTIMEZONE
TZID:America/New_York
BEGIN:STANDARD
TZNAME:EST
DTSTART:20241103T020000
TZOFFSETFROM:-0400
TZOFFSETTO:-0500
RDATE:20251102T020000
END:STANDARD
BEGIN:DAYLIGHT
TZNAME:EDT
DTSTART:20250309T020000
TZOFFSETFROM:-0500
TZOFFSETTO:-0400
RDATE:20260308T020000
END:DAYLIGHT
END:VTIMEZONE
BEGIN:VEVENT
UID:af4a26f8-17a9-477c-83f8-6e00de130d3a
DTSTAMP:20260424T111843Z
DESCRIPTION:Boost your mental well-being with personalized support and expe
 rt guidance to help you navigate life's challenges. Take control of your e
 motional health today and start your journey to a balanced\, healthier min
 d.
DTSTART;TZID=America/New_York:20250428T140000
DTEND;TZID=America/New_York:20250428T150000
LOCATION:marble Hill Older Adult Center\, bronx\, NY 10463 US
SUMMARY:What Is Mental Health/Emotional Health.
END:VEVENT
END:VCALENDAR
