BEGIN:VCALENDAR
VERSION:2.0
PRODID:-//rssny.org//NONSGML kigkonsult.se iCalcreator 2.30.10//
CALSCALE:GREGORIAN
METHOD:PUBLISH
UID:e9f6e775-fb55-4abe-961f-4a4394eaaa75
X-WR-CALDESC:We asked\, and over 220 of you answered! Now\, it’s time to br
 ing those voices to life. Join us for a dynamic and fun session where we’l
 l dive into what you’ve shared\, brainstorm creative solutions\, and work 
 together to shape the future of our community. Your input is the key — we 
 want to hear more from YOU and make sure your ideas take center stage.
X-WR-RELCALID:fded6538ccd7d80207f4e6797a469f54
X-WR-TIMEZONE:America/New_York
BEGIN:VTIMEZONE
TZID:America/New_York
BEGIN:STANDARD
TZNAME:EST
DTSTART:20241103T020000
TZOFFSETFROM:-0400
TZOFFSETTO:-0500
RDATE:20251102T020000
END:STANDARD
BEGIN:DAYLIGHT
TZNAME:EDT
DTSTART:20250309T020000
TZOFFSETFROM:-0500
TZOFFSETTO:-0400
RDATE:20260308T020000
END:DAYLIGHT
END:VTIMEZONE
BEGIN:VEVENT
UID:a021e101-d1af-49e2-96af-76ee854cdeaa
DTSTAMP:20260424T111342Z
DESCRIPTION:We asked\, and over 220 of you answered! Now\, it’s time to bri
 ng those voices to life. Join us for a dynamic and fun session where we’ll
  dive into what you’ve shared\, brainstorm creative solutions\, and work t
 ogether to shape the future of our community. Your input is the key — we w
 ant to hear more from YOU and make sure your ideas take center stage.
DTSTART;TZID=America/New_York:20250428T130000
DTEND;TZID=America/New_York:20250428T140000
LOCATION:146 West 228th street\, Bronx \, New York\, NY 10463 US
SUMMARY:From Data to Action: Shaping Our Community Together
END:VEVENT
END:VCALENDAR
