BEGIN:VCALENDAR
VERSION:2.0
PRODID:-//rssny.org//NONSGML kigkonsult.se iCalcreator 2.30.10//
CALSCALE:GREGORIAN
METHOD:PUBLISH
UID:cd2cd6f1-45c4-452d-b1b2-ae2ad42c884e
X-WR-CALDESC:Join Riverdale Senior Services programming for personalized he
 alth support\, to discuss your health concerns\, or receive guidance on me
 dication management from our Community Nurse\, or join us for an Education
 al workshop.\nÚnase a los programas de Riverdale Senior Services para obte
 ner apoyo personalizado para la salud\, discutir sus inquietudes de salud 
 o recibir orientación sobre el manejo de medicamentos de nuestra enfermera
  comunitaria\, o únase a nosotros para un taller educativo
X-WR-RELCALID:39a896df17ca36e841973a1149e1e476
X-WR-TIMEZONE:America/New_York
BEGIN:VTIMEZONE
TZID:America/New_York
BEGIN:STANDARD
TZNAME:EST
DTSTART:20241103T020000
TZOFFSETFROM:-0400
TZOFFSETTO:-0500
RDATE:20251102T020000
END:STANDARD
BEGIN:DAYLIGHT
TZNAME:EDT
DTSTART:20250309T020000
TZOFFSETFROM:-0500
TZOFFSETTO:-0400
RDATE:20260308T020000
END:DAYLIGHT
END:VTIMEZONE
BEGIN:VEVENT
UID:a55eb87c-3e4d-4596-a4d7-14f4b316f68d
DTSTAMP:20260424T123942Z
DESCRIPTION:Join Riverdale Senior Services programming for personalized hea
 lth support\, to discuss your health concerns\, or receive guidance on med
 ication management from our Community Nurse\, or join us for an Educationa
 l workshop.\nÚnase a los programas de Riverdale Senior Services para obten
 er apoyo personalizado para la salud\, discutir sus inquietudes de salud o
  recibir orientación sobre el manejo de medicamentos de nuestra enfermera 
 comunitaria\, o únase a nosotros para un taller educativo
DTSTART;TZID=America/New_York:20250312T130000
DTEND;TZID=America/New_York:20250312T160000
LOCATION:146 W 228th street\, Ground Floor\, Bronx\, NY 10463 US
SUMMARY:RSS-Health Management at Marble Hill Food Pantry
END:VEVENT
END:VCALENDAR
