BEGIN:VCALENDAR
VERSION:2.0
PRODID:-//rssny.org//NONSGML kigkonsult.se iCalcreator 2.30.10//
CALSCALE:GREGORIAN
METHOD:PUBLISH
UID:9e5e2768-e865-4464-a6f7-24042e26c755
X-WR-CALDESC:Únase a los programas de Riverdale Senior Services para obtene
 r apoyo personalizado para la salud\, discutir sus inquietudes de salud o 
 recibir orientación sobre el manejo de medicamentos de nuestra enfermera c
 omunitaria\, o únase a nosotros para un taller educativo\nJoin Riverdale S
 enior Services programming for personalized health support\, to discuss yo
 ur health concerns\, or receive guidance on medication management from our
  Community Nurse\, or join us for an Educational workshop
X-WR-RELCALID:8dc2b031decdbda3f405d0329bb66d16
X-WR-TIMEZONE:America/New_York
BEGIN:VTIMEZONE
TZID:America/New_York
BEGIN:STANDARD
TZNAME:EST
DTSTART:20241103T020000
TZOFFSETFROM:-0400
TZOFFSETTO:-0500
RDATE:20251102T020000
END:STANDARD
BEGIN:DAYLIGHT
TZNAME:EDT
DTSTART:20250309T020000
TZOFFSETFROM:-0500
TZOFFSETTO:-0400
RDATE:20260308T020000
END:DAYLIGHT
END:VTIMEZONE
BEGIN:VEVENT
UID:3eafb3db-cde7-4dc3-9611-5d1f6038c961
DTSTAMP:20260424T124010Z
DESCRIPTION:Únase a los programas de Riverdale Senior Services para obtener
  apoyo personalizado para la salud\, discutir sus inquietudes de salud o r
 ecibir orientación sobre el manejo de medicamentos de nuestra enfermera co
 munitaria\, o únase a nosotros para un taller educativo\nJoin Riverdale Se
 nior Services programming for personalized health support\, to discuss you
 r health concerns\, or receive guidance on medication management from our 
 Community Nurse\, or join us for an Educational workshop
DTSTART;TZID=America/New_York:20250311T120000
DTEND;TZID=America/New_York:20250311T140000
LOCATION:3101 Kingsbridge Terrence \, Ground Floor\, Bronx\, NY 10463 US
SUMMARY:RSS-Health Management at KHCC food pantry
END:VEVENT
END:VCALENDAR
