BEGIN:VCALENDAR
VERSION:2.0
PRODID:-//rssny.org//NONSGML kigkonsult.se iCalcreator 2.30.10//
CALSCALE:GREGORIAN
METHOD:PUBLISH
UID:7a8f9031-bcb9-4acd-ad73-5c6a6f9fec55
X-WR-CALDESC:February is National Heart Awareness Month. Learn about risk f
 actors for heart disease\, Signs & Symptoms\, preventive measures\, life s
 tyle changes\, community resources and more.
X-WR-RELCALID:c83a5c1c1727293d351024f73a1d15e4
X-WR-TIMEZONE:America/New_York
BEGIN:VTIMEZONE
TZID:America/New_York
BEGIN:STANDARD
TZNAME:EST
DTSTART:20241103T020000
TZOFFSETFROM:-0400
TZOFFSETTO:-0500
RDATE:20251102T020000
END:STANDARD
BEGIN:DAYLIGHT
TZNAME:EDT
DTSTART:20240310T020000
TZOFFSETFROM:-0500
TZOFFSETTO:-0400
RDATE:20250309T020000
RDATE:20260308T020000
END:DAYLIGHT
END:VTIMEZONE
BEGIN:VEVENT
UID:6bcb8504-045a-459e-a740-babd0da1278c
DTSTAMP:20260424T141042Z
DESCRIPTION:February is National Heart Awareness Month. Learn about risk fa
 ctors for heart disease\, Signs & Symptoms\, preventive measures\, life st
 yle changes\, community resources and more.
DTSTART;TZID=America/New_York:20250227T130000
DTEND;TZID=America/New_York:20250227T140000
LOCATION:2600 Netherlands Avenue\, Ground Floor\, Bronx\, AL 10463 US
SUMMARY:RSS/Montefiore Heart Health Presentation at Marble Hill OAC
END:VEVENT
END:VCALENDAR
