BEGIN:VCALENDAR
VERSION:2.0
PRODID:-//rssny.org//NONSGML kigkonsult.se iCalcreator 2.30.10//
CALSCALE:GREGORIAN
METHOD:PUBLISH
UID:6d4b33e3-0d39-4444-8152-61902e2c2acc
X-WR-CALDESC:Join Riverdale Senior Services programming for personalized he
 alth support\, to discuss your health concerns\, or receive guidance on me
 dication management from our Community Nurse\, or join us for an Education
 al workshop.\nÚnase a los programas de Riverdale Senior Services para obte
 ner apoyo personalizado para la salud\, discutir sus inquietudes de salud 
 o recibir orientación sobre el manejo de medicamentos de nuestra enfermera
  comunitaria\, o únase a nosotros para un taller educativo
X-WR-RELCALID:19dc39c0881e275832c1ae1b499309a7
X-WR-TIMEZONE:America/New_York
BEGIN:VTIMEZONE
TZID:America/New_York
BEGIN:STANDARD
TZNAME:EST
DTSTART:20241103T020000
TZOFFSETFROM:-0400
TZOFFSETTO:-0500
RDATE:20251102T020000
END:STANDARD
BEGIN:DAYLIGHT
TZNAME:EDT
DTSTART:20240310T020000
TZOFFSETFROM:-0500
TZOFFSETTO:-0400
RDATE:20250309T020000
RDATE:20260308T020000
END:DAYLIGHT
END:VTIMEZONE
BEGIN:VEVENT
UID:2fa393c0-ab92-4548-a254-ae4bfff6b283
DTSTAMP:20260424T160359Z
DESCRIPTION:Join Riverdale Senior Services programming for personalized hea
 lth support\, to discuss your health concerns\, or receive guidance on med
 ication management from our Community Nurse\, or join us for an Educationa
 l workshop.\nÚnase a los programas de Riverdale Senior Services para obten
 er apoyo personalizado para la salud\, discutir sus inquietudes de salud o
  recibir orientación sobre el manejo de medicamentos de nuestra enfermera 
 comunitaria\, o únase a nosotros para un taller educativo
DTSTART;TZID=America/New_York:20250226T093000
DTEND;TZID=America/New_York:20250226T103000
LOCATION:2975 Independence Avenue \, Country Kitchen\, Bronx\, NY 10463 US
SUMMARY:RSS-Health Management at Schervier Older Adult Apartments
END:VEVENT
END:VCALENDAR
