BEGIN:VCALENDAR
VERSION:2.0
PRODID:-//rssny.org//NONSGML kigkonsult.se iCalcreator 2.30.10//
CALSCALE:GREGORIAN
METHOD:PUBLISH
UID:578d5abd-c530-4461-a8c6-76c2afb154ea
X-WR-CALDESC:Únase a los programas de Riverdale Senior Services para obtene
 r apoyo personalizado para la salud\, discutir sus inquietudes de salud o 
 recibir orientación sobre el manejo de medicamentos de nuestra enfermera c
 omunitaria\, o únase a nosotros para un taller educativo\nJoin Riverdale S
 enior Services programming for personalized health support\, to discuss yo
 ur health concerns\, or receive guidance on medication management from our
  Community Nurse\, or join us for an Educational workshop
X-WR-RELCALID:d2568b959a861c17ada6b7f004c4aa72
X-WR-TIMEZONE:America/New_York
BEGIN:VTIMEZONE
TZID:America/New_York
BEGIN:STANDARD
TZNAME:EST
DTSTART:20241103T020000
TZOFFSETFROM:-0400
TZOFFSETTO:-0500
RDATE:20251102T020000
END:STANDARD
BEGIN:DAYLIGHT
TZNAME:EDT
DTSTART:20240310T020000
TZOFFSETFROM:-0500
TZOFFSETTO:-0400
RDATE:20250309T020000
RDATE:20260308T020000
END:DAYLIGHT
END:VTIMEZONE
BEGIN:VEVENT
UID:90b5a079-9c41-4a14-9c64-8a9755c09d23
DTSTAMP:20260424T155548Z
DESCRIPTION:Únase a los programas de Riverdale Senior Services para obtener
  apoyo personalizado para la salud\, discutir sus inquietudes de salud o r
 ecibir orientación sobre el manejo de medicamentos de nuestra enfermera co
 munitaria\, o únase a nosotros para un taller educativo\nJoin Riverdale Se
 nior Services programming for personalized health support\, to discuss you
 r health concerns\, or receive guidance on medication management from our 
 Community Nurse\, or join us for an Educational workshop
DTSTART;TZID=America/New_York:20250225T120000
DTEND;TZID=America/New_York:20250225T140000
LOCATION:3101 Kingsbridge Terrence \, Ground Floor\, Bronx\, NY 10463 US
SUMMARY:RSS-Health Management at KHCC food pantry
END:VEVENT
END:VCALENDAR
