BEGIN:VCALENDAR
VERSION:2.0
PRODID:-//rssny.org//NONSGML kigkonsult.se iCalcreator 2.30.10//
CALSCALE:GREGORIAN
METHOD:PUBLISH
UID:d7dfb2bb-bdec-4928-8573-abe00c34c6f1
X-WR-CALDESC:¡Únete a nosotros para aprender sobre calorías\, cómo leer eti
 quetas nutricionales\, los factores que afectan nuestro peso y el impacto 
 de las dietas!Obtén valiosos conocimientos para tomar decisiones más salud
 ables y tomar el control de tu salud.\n\nJoin us to learn about calories\,
  how to read nutrition labels\, the factors that affect our weight\, and t
 he impact of dieting. Gain valuable insights to make healthier choices and
  take control of your health.\n\n
X-WR-RELCALID:eb916a8d18b2cbda7d60a3cf12be47cd
X-WR-TIMEZONE:America/New_York
BEGIN:VTIMEZONE
TZID:America/New_York
BEGIN:STANDARD
TZNAME:EST
DTSTART:20241103T020000
TZOFFSETFROM:-0400
TZOFFSETTO:-0500
RDATE:20251102T020000
END:STANDARD
BEGIN:DAYLIGHT
TZNAME:EDT
DTSTART:20240310T020000
TZOFFSETFROM:-0500
TZOFFSETTO:-0400
RDATE:20250309T020000
RDATE:20260308T020000
END:DAYLIGHT
END:VTIMEZONE
BEGIN:VEVENT
UID:4ea73069-fe2d-44fb-8ae4-adff8c38115f
DTSTAMP:20260424T200921Z
DESCRIPTION:¡Únete a nosotros para aprender sobre calorías\, cómo leer etiq
 uetas nutricionales\, los factores que afectan nuestro peso y el impacto d
 e las dietas!Obtén valiosos conocimientos para tomar decisiones más saluda
 bles y tomar el control de tu salud.\n\nJoin us to learn about calories\, 
 how to read nutrition labels\, the factors that affect our weight\, and th
 e impact of dieting. Gain valuable insights to make healthier choices and 
 take control of your health.\n\n
DTSTART;TZID=America/New_York:20250116T100000
DTEND;TZID=America/New_York:20250116T110000
LOCATION:3101 Kingsbridge Terrence \, Youth Lounge\, Bronx\, NY 10463 US
SUMMARY:The truth about Calories at Kingsbridge Heights Community Center- N
 utrition Education
END:VEVENT
END:VCALENDAR
