BEGIN:VCALENDAR
VERSION:2.0
PRODID:-//rssny.org//NONSGML kigkonsult.se iCalcreator 2.30.10//
CALSCALE:GREGORIAN
METHOD:PUBLISH
UID:ae7dd904-c8af-43e1-a87d-c0c51116eea8
X-WR-CALDESC:
X-WR-RELCALID:9eb490db0a1ecac3ebdfee179fbb0f80
X-WR-TIMEZONE:America/New_York
BEGIN:VTIMEZONE
TZID:America/New_York
BEGIN:STANDARD
TZNAME:EST
DTSTART:20241103T020000
TZOFFSETFROM:-0400
TZOFFSETTO:-0500
RDATE:20251102T020000
END:STANDARD
BEGIN:DAYLIGHT
TZNAME:EDT
DTSTART:20240310T020000
TZOFFSETFROM:-0500
TZOFFSETTO:-0400
RDATE:20250309T020000
RDATE:20260308T020000
END:DAYLIGHT
END:VTIMEZONE
BEGIN:VEVENT
UID:1c5cf101-9816-4576-ab85-de5cc3a28345
DTSTAMP:20260425T005059Z
DESCRIPTION:
DTSTART;TZID=America/New_York:20241105T090000
DTEND;TZID=America/New_York:20241105T110000
LOCATION:At KHCC\, 3101 Kingsbridge Terrace
SUMMARY:Blood Pressure Screenings and Assessements with Nurse Jennifer at K
 HCC (Kingsbridge Heights Community Center) (Copy) (Copy) (Copy)
END:VEVENT
END:VCALENDAR
