BEGIN:VCALENDAR
VERSION:2.0
PRODID:-//rssny.org//NONSGML kigkonsult.se iCalcreator 2.30.10//
CALSCALE:GREGORIAN
METHOD:PUBLISH
UID:b11a4bab-be53-4d53-8037-4ebc7846ffa1
X-WR-CALDESC:
X-WR-RELCALID:7eeed4e4a31defd863d6d3ed0b8a248e
X-WR-TIMEZONE:America/New_York
BEGIN:VTIMEZONE
TZID:America/New_York
BEGIN:STANDARD
TZNAME:EST
DTSTART:20231105T020000
TZOFFSETFROM:-0400
TZOFFSETTO:-0500
RDATE:20241103T020000
RDATE:20251102T020000
END:STANDARD
BEGIN:DAYLIGHT
TZNAME:EDT
DTSTART:20240310T020000
TZOFFSETFROM:-0500
TZOFFSETTO:-0400
RDATE:20250309T020000
RDATE:20260308T020000
END:DAYLIGHT
END:VTIMEZONE
BEGIN:VEVENT
UID:1975b2d0-8a75-48a8-b3ac-7b9352d200d9
DTSTAMP:20260425T022829Z
DESCRIPTION:
DTSTART;TZID=America/New_York:20241029T113000
DTEND;TZID=America/New_York:20241029T133000
LOCATION:At KHCC\, 3101 Kingsbridge Terrace
SUMMARY:Blood Pressure Screenings and Assessements with Nurse Jennifer at K
 HCC (Kingsbridge Heights Community Center) (Copy) (Copy)
END:VEVENT
END:VCALENDAR
