BEGIN:VCALENDAR
VERSION:2.0
PRODID:-//rssny.org//NONSGML kigkonsult.se iCalcreator 2.30.10//
CALSCALE:GREGORIAN
METHOD:PUBLISH
UID:8d050b6a-6b43-4549-aabe-9a146f10b826
X-WR-CALDESC:Participate in a 4-week Session as we discuss diabetes prevent
 ion and management as well as the interconnection of diabetes and mental h
 ealth. You will gain a holistic perspective in managing diabetes and menta
 l health through activities\, nutrition presentations and health managemen
 t discussions.
X-WR-RELCALID:bc055f1efdf7fcc504350add546b4950
X-WR-TIMEZONE:America/New_York
BEGIN:VTIMEZONE
TZID:America/New_York
BEGIN:STANDARD
TZNAME:EST
DTSTART:20231105T020000
TZOFFSETFROM:-0400
TZOFFSETTO:-0500
RDATE:20241103T020000
RDATE:20251102T020000
END:STANDARD
BEGIN:DAYLIGHT
TZNAME:EDT
DTSTART:20240310T020000
TZOFFSETFROM:-0500
TZOFFSETTO:-0400
RDATE:20250309T020000
RDATE:20260308T020000
END:DAYLIGHT
END:VTIMEZONE
BEGIN:VEVENT
UID:779d8436-18c5-4ae1-a3cd-64ad5758c548
DTSTAMP:20260425T022715Z
DESCRIPTION:Participate in a 4-week Session as we discuss diabetes preventi
 on and management as well as the interconnection of diabetes and mental he
 alth. You will gain a holistic perspective in managing diabetes and mental
  health through activities\, nutrition presentations and health management
  discussions.
DTSTART;TZID=America/New_York:20241022T090000
DTEND;TZID=America/New_York:20241022T110000
LOCATION:Kingsbridge Heights Community Center  o 3101 Kingsbridge Terrace\,
  Bronx\, NY 10463
SUMMARY:Beyond Blood Sugar Workshop 1: A Wellness Guide to Prevent & Manage
  Diabetes at KHCC
END:VEVENT
END:VCALENDAR
