BEGIN:VCALENDAR
VERSION:2.0
PRODID:-//rssny.org//NONSGML kigkonsult.se iCalcreator 2.30.10//
CALSCALE:GREGORIAN
METHOD:PUBLISH
UID:1c57693f-09c1-48c6-8b7e-056dcfd35a99
X-WR-CALDESC:
X-WR-RELCALID:8c44bc98616c898b830577a8d15da860
X-WR-TIMEZONE:America/New_York
BEGIN:VTIMEZONE
TZID:America/New_York
BEGIN:STANDARD
TZNAME:EST
DTSTART:20231105T020000
TZOFFSETFROM:-0400
TZOFFSETTO:-0500
RDATE:20241103T020000
RDATE:20251102T020000
END:STANDARD
BEGIN:DAYLIGHT
TZNAME:EDT
DTSTART:20240310T020000
TZOFFSETFROM:-0500
TZOFFSETTO:-0400
RDATE:20250309T020000
RDATE:20260308T020000
END:DAYLIGHT
END:VTIMEZONE
BEGIN:VEVENT
UID:b9564f19-cc14-476b-8f50-3c5ac82aa7d9
DTSTAMP:20260425T022718Z
DESCRIPTION:
DTSTART;TZID=America/New_York:20241021T110000
DTEND;TZID=America/New_York:20241021T120000
LOCATION:Marble Hill Older Adult Center  o 5365 Broadway\, The Bronx NY 104
 63
SUMMARY:Presentation by Dietitian from NY Presbyterian - Open to Marble Hil
 l and RSS Center Members\, Held at Marble ill
END:VEVENT
END:VCALENDAR
