BEGIN:VCALENDAR
VERSION:2.0
PRODID:-//rssny.org//NONSGML kigkonsult.se iCalcreator 2.30.10//
CALSCALE:GREGORIAN
METHOD:PUBLISH
UID:1430ed10-2afb-4fba-83f3-391c5e5ebe13
X-WR-CALDESC:Learn how to apply acupuncture techniques\, movement and yoga 
 to help with stress relief in the body. This event is restricted to those 
 who live in the apartments.
X-WR-RELCALID:619be97b1c1949bd47db29e2e8b3de9e
X-WR-TIMEZONE:America/New_York
BEGIN:VTIMEZONE
TZID:America/New_York
BEGIN:STANDARD
TZNAME:EST
DTSTART:20231105T020000
TZOFFSETFROM:-0400
TZOFFSETTO:-0500
RDATE:20241103T020000
RDATE:20251102T020000
END:STANDARD
BEGIN:DAYLIGHT
TZNAME:EDT
DTSTART:20240310T020000
TZOFFSETFROM:-0500
TZOFFSETTO:-0400
RDATE:20250309T020000
RDATE:20260308T020000
END:DAYLIGHT
END:VTIMEZONE
BEGIN:VEVENT
UID:7ca1cb3a-618b-4174-99ef-90f9cc427f35
DTSTAMP:20260425T022135Z
DESCRIPTION:Learn how to apply acupuncture techniques\, movement and yoga t
 o help with stress relief in the body. This event is restricted to those w
 ho live in the apartments.
DTSTART;TZID=America/New_York:20241016T100000
DTEND;TZID=America/New_York:20241016T110000
LOCATION:Schervier Older Adult Apartments  o 2995 Independence Ave\, The Br
 onx NY 10463
SUMMARY:Self-Massage Workshop with Kathleen at Schervier Apartments
END:VEVENT
END:VCALENDAR
