BEGIN:VCALENDAR
VERSION:2.0
PRODID:-//rssny.org//NONSGML kigkonsult.se iCalcreator 2.30.10//
CALSCALE:GREGORIAN
METHOD:PUBLISH
UID:21a968b3-6bb5-4e3c-b075-51d3f54f775c
X-WR-CALDESC:Get a brief health screening by Nurse Jennifer and get answers
  to any questions you may have about your blood pressure. Have questions a
 bout prescription medication and blood work. Bring it with you for a brief
  evaluation.
X-WR-RELCALID:76894734d88b9ef8948dbf723f5cc5c4
X-WR-TIMEZONE:America/New_York
BEGIN:VTIMEZONE
TZID:America/New_York
BEGIN:STANDARD
TZNAME:EST
DTSTART:20231105T020000
TZOFFSETFROM:-0400
TZOFFSETTO:-0500
RDATE:20241103T020000
RDATE:20251102T020000
END:STANDARD
BEGIN:DAYLIGHT
TZNAME:EDT
DTSTART:20240310T020000
TZOFFSETFROM:-0500
TZOFFSETTO:-0400
RDATE:20250309T020000
RDATE:20260308T020000
END:DAYLIGHT
END:VTIMEZONE
BEGIN:VEVENT
UID:f5019e82-0b25-427e-9152-6d035e906905
DTSTAMP:20260425T022549Z
DESCRIPTION:Get a brief health screening by Nurse Jennifer and get answers 
 to any questions you may have about your blood pressure. Have questions ab
 out prescription medication and blood work. Bring it with you for a brief 
 evaluation.
DTSTART;TZID=America/New_York:20241015T100000
DTEND;TZID=America/New_York:20241015T133000
LOCATION:Kingsbridge Heights Community Center  o 3101 Kingsbridge Terrace\,
  Bronx\, NY 10463
SUMMARY:Blood Pressure Monitoring at KHCC
END:VEVENT
END:VCALENDAR
