BEGIN:VCALENDAR
VERSION:2.0
PRODID:-//rssny.org//NONSGML kigkonsult.se iCalcreator 2.30.10//
CALSCALE:GREGORIAN
METHOD:PUBLISH
UID:8386194d-c3ad-4b86-8bdc-b36692e7c660
X-WR-CALDESC:Join us for breakfast at the Center!
X-WR-RELCALID:a5b51b5579b4741dba86baea4f291dad
X-WR-TIMEZONE:America/New_York
BEGIN:VTIMEZONE
TZID:America/New_York
BEGIN:STANDARD
TZNAME:EST
DTSTART:20251102T020000
TZOFFSETFROM:-0400
TZOFFSETTO:-0500
RDATE:20261101T020000
END:STANDARD
BEGIN:DAYLIGHT
TZNAME:EDT
DTSTART:20260308T020000
TZOFFSETFROM:-0500
TZOFFSETTO:-0400
RDATE:20270314T020000
END:DAYLIGHT
END:VTIMEZONE
BEGIN:VEVENT
UID:0dedb857-e450-4016-b160-67b257b39246
DTSTAMP:20260424T095018Z
DESCRIPTION:Join us for breakfast at the Center!
DTSTART;TZID=America/New_York:20260424T090000
DTEND;TZID=America/New_York:20260424T100000
LOCATION:
SUMMARY:Breakfast Club (In Center)
END:VEVENT
END:VCALENDAR
