BEGIN:VCALENDAR
VERSION:2.0
PRODID:-//rssny.org//NONSGML kigkonsult.se iCalcreator 2.30.10//
CALSCALE:GREGORIAN
METHOD:PUBLISH
UID:e04b70cf-8a09-4a05-9630-889dc03d528b
X-WR-CALDESC:Join us for breakfast at the Center!
X-WR-RELCALID:6f63c8e06803a1fd6a2adc1f8ef681dd
X-WR-TIMEZONE:America/New_York
BEGIN:VTIMEZONE
TZID:America/New_York
BEGIN:STANDARD
TZNAME:EST
DTSTART:20241103T020000
TZOFFSETFROM:-0400
TZOFFSETTO:-0500
RDATE:20251102T020000
END:STANDARD
BEGIN:DAYLIGHT
TZNAME:EDT
DTSTART:20240310T020000
TZOFFSETFROM:-0500
TZOFFSETTO:-0400
RDATE:20250309T020000
RDATE:20260308T020000
END:DAYLIGHT
END:VTIMEZONE
BEGIN:VEVENT
UID:9cbb2479-0acb-4a70-9f16-a9fd73270d76
DTSTAMP:20260424T162930Z
DESCRIPTION:Join us for breakfast at the Center!
DTSTART;TZID=America/New_York:20241211T090000
DTEND;TZID=America/New_York:20241211T100000
LOCATION:
SUMMARY:Breakfast Club (In Center)
END:VEVENT
END:VCALENDAR
