BEGIN:VCALENDAR
VERSION:2.0
PRODID:-//rssny.org//NONSGML kigkonsult.se iCalcreator 2.30.10//
CALSCALE:GREGORIAN
METHOD:PUBLISH
UID:90c5a128-b7ef-48ca-8c80-6f7c3cd2729c
X-WR-CALDESC:Given all the interest in Wicked and the Wizard of Oz now seem
 ed the perfect time for a reshowing of this classic film. We'll start with
  a short documentary on the connections between Wicked and the Wizard of O
 z. Seating is limited. Dinner and snacks are included!!\n\nReservations Re
 quired. $5 recommended donation.
X-WR-RELCALID:0385757a057d110fa5d02fa5a268a484
X-WR-TIMEZONE:America/New_York
BEGIN:VTIMEZONE
TZID:America/New_York
BEGIN:STANDARD
TZNAME:EST
DTSTART:20241103T020000
TZOFFSETFROM:-0400
TZOFFSETTO:-0500
RDATE:20251102T020000
END:STANDARD
BEGIN:DAYLIGHT
TZNAME:EDT
DTSTART:20240310T020000
TZOFFSETFROM:-0500
TZOFFSETTO:-0400
RDATE:20250309T020000
RDATE:20260308T020000
END:DAYLIGHT
END:VTIMEZONE
BEGIN:VEVENT
UID:7d57d9f5-b277-466b-beba-5927d2ba5660
DTSTAMP:20260424T145027Z
DESCRIPTION:Given all the interest in Wicked and the Wizard of Oz now seeme
 d the perfect time for a reshowing of this classic film. We'll start with 
 a short documentary on the connections between Wicked and the Wizard of Oz
 . Seating is limited. Dinner and snacks are included!!\n\nReservations Req
 uired. $5 recommended donation.
DTSTART;TZID=America/New_York:20241210T160000
DTEND;TZID=America/New_York:20241210T183000
LOCATION:2600 Netherland Avenue\, Bronx\, NY 10463 US
SUMMARY:Dinner & A Special Movie at RSS  - Wizard of Oz & Introductory Vide
 o on Wicked (In Center)
END:VEVENT
END:VCALENDAR
