BEGIN:VCALENDAR
VERSION:2.0
PRODID:-//rssny.org//NONSGML kigkonsult.se iCalcreator 2.30.10//
CALSCALE:GREGORIAN
METHOD:PUBLISH
UID:5e0d57df-65f8-4dd1-a767-d32958bf3d6f
X-WR-CALDESC:Coloring books have to been shown to be a great form of relaxa
 tion and they also bring us back to a simpler time in our lives! Coloring 
 is also a great brain exercise because it utilizes both hemispheres of the
  brain\, right and left. \n\nEnjoy!
X-WR-RELCALID:bd552f2842141097619a7ffce5d42b80
X-WR-TIMEZONE:America/New_York
BEGIN:VTIMEZONE
TZID:America/New_York
BEGIN:STANDARD
TZNAME:EST
DTSTART:20241103T020000
TZOFFSETFROM:-0400
TZOFFSETTO:-0500
RDATE:20251102T020000
END:STANDARD
BEGIN:DAYLIGHT
TZNAME:EDT
DTSTART:20240310T020000
TZOFFSETFROM:-0500
TZOFFSETTO:-0400
RDATE:20250309T020000
RDATE:20260308T020000
END:DAYLIGHT
END:VTIMEZONE
BEGIN:VEVENT
UID:2cc1751d-8b21-4b0b-aa33-ac943876689b
DTSTAMP:20260424T145015Z
DESCRIPTION:Coloring books have to been shown to be a great form of relaxat
 ion and they also bring us back to a simpler time in our lives! Coloring i
 s also a great brain exercise because it utilizes both hemispheres of the 
 brain\, right and left. \n\nEnjoy!
DTSTART;TZID=America/New_York:20241210T130000
DTEND;TZID=America/New_York:20241210T140000
LOCATION:In Center
SUMMARY:On-Site: Coloring Books for Relaxation (IN CENTER)
END:VEVENT
END:VCALENDAR
