BEGIN:VCALENDAR
VERSION:2.0
PRODID:-//rssny.org//NONSGML kigkonsult.se iCalcreator 2.30.10//
CALSCALE:GREGORIAN
METHOD:PUBLISH
UID:05f612e5-f360-49c8-8b5f-b280deae2067
X-WR-CALDESC:Andre Rieu\nhttps://en.wikipedia.org/wiki/Andr%C3%A9_Rieu\n\n
 \n\n
X-WR-RELCALID:0c9c393ac734ad9d21805f7cea98cf81
X-WR-TIMEZONE:America/New_York
BEGIN:VTIMEZONE
TZID:America/New_York
BEGIN:STANDARD
TZNAME:EST
DTSTART:20241103T020000
TZOFFSETFROM:-0400
TZOFFSETTO:-0500
RDATE:20251102T020000
END:STANDARD
BEGIN:DAYLIGHT
TZNAME:EDT
DTSTART:20240310T020000
TZOFFSETFROM:-0500
TZOFFSETTO:-0400
RDATE:20250309T020000
RDATE:20260308T020000
END:DAYLIGHT
END:VTIMEZONE
BEGIN:VEVENT
UID:f055144e-a599-45f2-b794-76b5131ec6de
DTSTAMP:20260423T182037Z
DESCRIPTION:Andre Rieu\nhttps://en.wikipedia.org/wiki/Andr%C3%A9_Rieu\n\n\n
 \n
DTSTART;TZID=America/New_York:20241208T170000
DTEND;TZID=America/New_York:20241208T180000
LOCATION:https://rssny.org/music_appreciation.html
SUMMARY:Music Appreciation with Diana: Andre Rieu (ONLINE)
END:VEVENT
END:VCALENDAR
