BEGIN:VCALENDAR
VERSION:2.0
PRODID:-//rssny.org//NONSGML kigkonsult.se iCalcreator 2.30.10//
CALSCALE:GREGORIAN
METHOD:PUBLISH
UID:ef49bf3d-4b1d-4388-9a23-948a57dd19fb
X-WR-CALDESC:
X-WR-RELCALID:76148c51d19b89d919982db9e484f128
X-WR-TIMEZONE:America/New_York
BEGIN:VTIMEZONE
TZID:America/New_York
BEGIN:STANDARD
TZNAME:EST
DTSTART:20241103T020000
TZOFFSETFROM:-0400
TZOFFSETTO:-0500
RDATE:20251102T020000
END:STANDARD
BEGIN:DAYLIGHT
TZNAME:EDT
DTSTART:20240310T020000
TZOFFSETFROM:-0500
TZOFFSETTO:-0400
RDATE:20250309T020000
RDATE:20260308T020000
END:DAYLIGHT
END:VTIMEZONE
BEGIN:VEVENT
UID:a25d88c2-88a3-4e8c-b179-5849203a27f2
DTSTAMP:20260423T120952Z
DESCRIPTION:
DTSTART;TZID=America/New_York:20241204T130000
DTEND;TZID=America/New_York:20241204T150000
LOCATION:
SUMMARY:Movies In Center
END:VEVENT
END:VCALENDAR
