BEGIN:VCALENDAR
VERSION:2.0
PRODID:-//rssny.org//NONSGML kigkonsult.se iCalcreator 2.30.10//
CALSCALE:GREGORIAN
METHOD:PUBLISH
UID:e5b92a43-eb69-450f-af46-501f252e2b2d
X-WR-CALDESC:Register here - https://rssny.org/reopening-forms/collage.html
 \n\nUse all different kinds of media to create wonderful art pieces. Carol
  Frank is back leading a class in mixed media. Space is limited so please 
 register soon!
X-WR-RELCALID:2b74b2ed47550e9c7f6c3d417da3b6ea
X-WR-TIMEZONE:America/New_York
BEGIN:VTIMEZONE
TZID:America/New_York
BEGIN:STANDARD
TZNAME:EST
DTSTART:20241103T020000
TZOFFSETFROM:-0400
TZOFFSETTO:-0500
RDATE:20251102T020000
END:STANDARD
BEGIN:DAYLIGHT
TZNAME:EDT
DTSTART:20240310T020000
TZOFFSETFROM:-0500
TZOFFSETTO:-0400
RDATE:20250309T020000
RDATE:20260308T020000
END:DAYLIGHT
END:VTIMEZONE
BEGIN:VEVENT
UID:79dfbf1b-df3c-4cb1-9d05-247dba195bd9
DTSTAMP:20260421T094440Z
DESCRIPTION:Register here - https://rssny.org/reopening-forms/collage.html
 \n\nUse all different kinds of media to create wonderful art pieces. Carol
  Frank is back leading a class in mixed media. Space is limited so please 
 register soon!
DTSTART;TZID=America/New_York:20241203T130000
DTEND;TZID=America/New_York:20241203T150000
LOCATION:https://rssny.org/reopening-forms/collage.html
SUMMARY:Collage with Annelen (In-Person)
END:VEVENT
END:VCALENDAR
