BEGIN:VCALENDAR
VERSION:2.0
PRODID:-//rssny.org//NONSGML kigkonsult.se iCalcreator 2.30.10//
CALSCALE:GREGORIAN
METHOD:PUBLISH
UID:3d2104a5-067d-42eb-8480-1c4b361c9563
X-WR-CALDESC:
X-WR-RELCALID:179224ba8ccac6d2398782899795077d
X-WR-TIMEZONE:America/New_York
BEGIN:VTIMEZONE
TZID:America/New_York
BEGIN:STANDARD
TZNAME:EST
DTSTART:20251102T020000
TZOFFSETFROM:-0400
TZOFFSETTO:-0500
RDATE:20261101T020000
END:STANDARD
BEGIN:DAYLIGHT
TZNAME:EDT
DTSTART:20260308T020000
TZOFFSETFROM:-0500
TZOFFSETTO:-0400
RDATE:20270314T020000
END:DAYLIGHT
END:VTIMEZONE
BEGIN:VEVENT
UID:e097de5e-9965-4454-adb4-a54407ef7491
DTSTAMP:20260423T101822Z
DESCRIPTION:
DTSTART;TZID=America/New_York:20260429T140000
DTEND;TZID=America/New_York:20260429T161500
LOCATION:
SUMMARY:Movies In Center
END:VEVENT
END:VCALENDAR
