BEGIN:VCALENDAR
VERSION:2.0
PRODID:-//rssny.org//NONSGML kigkonsult.se iCalcreator 2.30.10//
CALSCALE:GREGORIAN
METHOD:PUBLISH
UID:3a67ed00-6472-4263-8038-07269ebf02ed
X-WR-CALDESC:Join us for breakfast at the Center!
X-WR-RELCALID:0200455b7e28d61a0b86cbf3b05ff2c8
X-WR-TIMEZONE:America/New_York
BEGIN:VTIMEZONE
TZID:America/New_York
BEGIN:STANDARD
TZNAME:EST
DTSTART:20251102T020000
TZOFFSETFROM:-0400
TZOFFSETTO:-0500
RDATE:20261101T020000
END:STANDARD
BEGIN:DAYLIGHT
TZNAME:EDT
DTSTART:20260308T020000
TZOFFSETFROM:-0500
TZOFFSETTO:-0400
RDATE:20270314T020000
END:DAYLIGHT
END:VTIMEZONE
BEGIN:VEVENT
UID:9e88ed71-7961-4484-bc29-79efe780c493
DTSTAMP:20260423T101822Z
DESCRIPTION:Join us for breakfast at the Center!
DTSTART;TZID=America/New_York:20260429T090000
DTEND;TZID=America/New_York:20260429T100000
LOCATION:
SUMMARY:Breakfast Club (In Center)
END:VEVENT
END:VCALENDAR
