BEGIN:VCALENDAR
VERSION:2.0
PRODID:-//rssny.org//NONSGML kigkonsult.se iCalcreator 2.30.10//
CALSCALE:GREGORIAN
METHOD:PUBLISH
UID:dcecac00-8fa4-4200-851a-6561868842d2
X-WR-CALDESC:April is Volunteer Appreciation Month. Thank you to all the pe
 ople who offer their time and expertise to RSS. We appreciate everything y
 ou do!
X-WR-RELCALID:5fa84465e33e935ddbebf5f0a8327228
X-WR-TIMEZONE:America/New_York
BEGIN:VTIMEZONE
TZID:America/New_York
BEGIN:STANDARD
TZNAME:EST
DTSTART:20251102T020000
TZOFFSETFROM:-0400
TZOFFSETTO:-0500
RDATE:20261101T020000
END:STANDARD
BEGIN:DAYLIGHT
TZNAME:EDT
DTSTART:20260308T020000
TZOFFSETFROM:-0500
TZOFFSETTO:-0400
RDATE:20270314T020000
END:DAYLIGHT
END:VTIMEZONE
BEGIN:VEVENT
UID:e69600d2-8c9f-41e1-b81e-8b1020df5946
DTSTAMP:20260423T085100Z
DESCRIPTION:April is Volunteer Appreciation Month. Thank you to all the peo
 ple who offer their time and expertise to RSS. We appreciate everything yo
 u do!
DTSTART;TZID=America/New_York:20260428T120000
DTEND;TZID=America/New_York:20260428T130000
LOCATION:
SUMMARY:Volunteer Appreciation Lunch
END:VEVENT
END:VCALENDAR
