BEGIN:VCALENDAR
VERSION:2.0
PRODID:-//rssny.org//NONSGML kigkonsult.se iCalcreator 2.30.10//
CALSCALE:GREGORIAN
METHOD:PUBLISH
UID:21f93d6b-fa2b-49e0-a330-02c198e598f8
X-WR-CALDESC:This class is in the center.\n\nLevel: Beginner
X-WR-RELCALID:ec33373120a3b2da12460bcb9dcfb99b
X-WR-TIMEZONE:America/New_York
BEGIN:VTIMEZONE
TZID:America/New_York
BEGIN:STANDARD
TZNAME:EST
DTSTART:20251102T020000
TZOFFSETFROM:-0400
TZOFFSETTO:-0500
RDATE:20261101T020000
END:STANDARD
BEGIN:DAYLIGHT
TZNAME:EDT
DTSTART:20260308T020000
TZOFFSETFROM:-0500
TZOFFSETTO:-0400
RDATE:20270314T020000
END:DAYLIGHT
END:VTIMEZONE
BEGIN:VEVENT
UID:c7ce57b2-0f2d-423e-88ec-396946e19777
DTSTAMP:20260423T091419Z
DESCRIPTION:This class is in the center.\n\nLevel: Beginner
DTSTART;TZID=America/New_York:20260428T130000
DTEND;TZID=America/New_York:20260428T140000
LOCATION:
SUMMARY:Technology Group Training with Caroline: Facebook & AI fake content
  (IN CENTER)
END:VEVENT
END:VCALENDAR
