BEGIN:VCALENDAR
VERSION:2.0
PRODID:-//rssny.org//NONSGML kigkonsult.se iCalcreator 2.30.10//
CALSCALE:GREGORIAN
METHOD:PUBLISH
UID:7e23deec-ec55-4ac4-b1f9-59d05a3441b7
X-WR-CALDESC:Join us for a fun time and try out tap dancing\n\nNO prior dan
 ce experience or materials are needed.
X-WR-RELCALID:1523cb949abbb88344ebddf8a55b67e5
X-WR-TIMEZONE:America/New_York
BEGIN:VTIMEZONE
TZID:America/New_York
BEGIN:STANDARD
TZNAME:EST
DTSTART:20251102T020000
TZOFFSETFROM:-0400
TZOFFSETTO:-0500
RDATE:20261101T020000
END:STANDARD
BEGIN:DAYLIGHT
TZNAME:EDT
DTSTART:20260308T020000
TZOFFSETFROM:-0500
TZOFFSETTO:-0400
RDATE:20270314T020000
END:DAYLIGHT
END:VTIMEZONE
BEGIN:VEVENT
UID:aecdb943-a963-48f8-b1da-352bcbfeafa7
DTSTAMP:20260421T105021Z
DESCRIPTION:Join us for a fun time and try out tap dancing\n\nNO prior danc
 e experience or materials are needed.
DTSTART;TZID=America/New_York:20260427T110000
DTEND;TZID=America/New_York:20260427T120000
LOCATION:
SUMMARY:Tap Dancing with Maria (IN CENTER)
END:VEVENT
END:VCALENDAR
