BEGIN:VCALENDAR
VERSION:2.0
PRODID:-//rssny.org//NONSGML kigkonsult.se iCalcreator 2.30.10//
CALSCALE:GREGORIAN
METHOD:PUBLISH
UID:56ea0225-2221-4f91-90bb-5e4bf736f110
X-WR-CALDESC:To register: https://rssny.org/class-forms/health-talks.html\n
 \nJoin us at RSS for a presentation on Alcohol Awareness with Montefiore.
 \n\n
X-WR-RELCALID:185d0b93cc6e4b8bd650f44c78a433dc
X-WR-TIMEZONE:America/New_York
BEGIN:VTIMEZONE
TZID:America/New_York
BEGIN:STANDARD
TZNAME:EST
DTSTART:20251102T020000
TZOFFSETFROM:-0400
TZOFFSETTO:-0500
RDATE:20261101T020000
END:STANDARD
BEGIN:DAYLIGHT
TZNAME:EDT
DTSTART:20260308T020000
TZOFFSETFROM:-0500
TZOFFSETTO:-0400
RDATE:20270314T020000
END:DAYLIGHT
END:VTIMEZONE
BEGIN:VEVENT
UID:e15ee7ff-8f8e-42aa-bbf9-a35f3d4aa343
DTSTAMP:20260421T061315Z
DESCRIPTION:To register: https://rssny.org/class-forms/health-talks.html\n
 \nJoin us at RSS for a presentation on Alcohol Awareness with Montefiore.
 \n\n
DTSTART;TZID=America/New_York:20260424T131500
DTEND;TZID=America/New_York:20260424T141500
LOCATION:https://rssny.org/class-forms/health-talks.html
SUMMARY:Alcohol Awareness with Montefiore (Hybrid)
END:VEVENT
END:VCALENDAR
