BEGIN:VCALENDAR
VERSION:2.0
PRODID:-//rssny.org//NONSGML kigkonsult.se iCalcreator 2.30.10//
CALSCALE:GREGORIAN
METHOD:PUBLISH
UID:1c290451-8bc2-4b84-b2e8-4effef410c0f
X-WR-CALDESC:To register: https://rssny.org/class-forms/chair-yoga-with-ani
 ta.html
X-WR-RELCALID:03711f283c76f24ff60e7801a30e20cc
X-WR-TIMEZONE:America/New_York
BEGIN:VTIMEZONE
TZID:America/New_York
BEGIN:STANDARD
TZNAME:EST
DTSTART:20251102T020000
TZOFFSETFROM:-0400
TZOFFSETTO:-0500
RDATE:20261101T020000
END:STANDARD
BEGIN:DAYLIGHT
TZNAME:EDT
DTSTART:20260308T020000
TZOFFSETFROM:-0500
TZOFFSETTO:-0400
RDATE:20270314T020000
END:DAYLIGHT
END:VTIMEZONE
BEGIN:VEVENT
UID:50b77950-3ed2-407a-9cf2-f6a6a716c357
DTSTAMP:20260421T043519Z
DESCRIPTION:To register: https://rssny.org/class-forms/chair-yoga-with-anit
 a.html
DTSTART;TZID=America/New_York:20260423T090000
DTEND;TZID=America/New_York:20260423T094500
LOCATION:https://rssny.org/class-forms/chair-yoga-with-anita.html
SUMMARY:Chair Yoga with Anita: Strengthen and Balance (Online)
END:VEVENT
END:VCALENDAR
